BEGIN:VCALENDAR
VERSION:2.0
PRODID:-//Famous Veterans - ECPv5.16.4//NONSGML v1.0//EN
CALSCALE:GREGORIAN
METHOD:PUBLISH
X-WR-CALNAME:Famous Veterans
X-ORIGINAL-URL:https://famousveterans.com
X-WR-CALDESC:Events for Famous Veterans
BEGIN:VTIMEZONE
TZID:America/New_York
BEGIN:DAYLIGHT
TZOFFSETFROM:-0500
TZOFFSETTO:-0400
TZNAME:EDT
DTSTART:20280312T070000
END:DAYLIGHT
BEGIN:STANDARD
TZOFFSETFROM:-0400
TZOFFSETTO:-0500
TZNAME:EST
DTSTART:20281105T060000
END:STANDARD
BEGIN:DAYLIGHT
TZOFFSETFROM:-0500
TZOFFSETTO:-0400
TZNAME:EDT
DTSTART:20290311T070000
END:DAYLIGHT
BEGIN:STANDARD
TZOFFSETFROM:-0400
TZOFFSETTO:-0500
TZNAME:EST
DTSTART:20291104T060000
END:STANDARD
END:VTIMEZONE
BEGIN:VEVENT
DTSTART;VALUE=DATE:20280816
DTEND;VALUE=DATE:20290817
DTSTAMP:20260421T010313
CREATED:20170512T213027Z
LAST-MODIFIED:20170512T213027Z
UID:7132-1849996800-1881619199@famousveterans.com
SUMMARY:Famous Veterans Birthdays - August 16th
DESCRIPTION:Famous Veterans Celebrating Birthdays Today (August 16th):\nFamous Veterans Born August 16\, 1924: \nFess Parker – Actor: Daniel Boone\, Old Yeller – (Navy) – Died: March 18\, 2010 \n \n\n \n(adsbygoogle = window.adsbygoogle || []).push({});
URL:https://famousveterans.com/event/famous-veterans-birthdays-august-16th/2028-08-16/
CATEGORIES:Birthdays
END:VEVENT
BEGIN:VEVENT
DTSTART;TZID=America/New_York:20290301T230000
DTEND;TZID=America/New_York:20290302T225959
DTSTAMP:20260421T010313
CREATED:20170510T203215Z
LAST-MODIFIED:20170510T203215Z
UID:7332-1867100400-1867186799@famousveterans.com
SUMMARY:Famous Veterans Birthdays - March 2nd
DESCRIPTION:Famous Veterans Celebrating Birthdays Today (March 2nd):\nFamous Veterans Born March 2\, 1917: \nDesi Arnaz – Actor/Musician: I Love Lucy – (Army) – Died: December 2\, 1986 \nFamous Veterans Born March 2\, 1904: \nDr. Suess aka Theodor Seuss Geisel – Writer – (Army WWII Signal Corp) – Died: September 24\, 1991 \n \n\n \n(adsbygoogle = window.adsbygoogle || []).push({});
URL:https://famousveterans.com/event/famous-veterans-birthdays-march-2nd/2029-03-02/
CATEGORIES:Birthdays
END:VEVENT
BEGIN:VEVENT
DTSTART;TZID=America/New_York:20290302T230000
DTEND;TZID=America/New_York:20290303T225959
DTSTAMP:20260421T010313
CREATED:20170511T210521Z
LAST-MODIFIED:20170511T210521Z
UID:7333-1867186800-1867273199@famousveterans.com
SUMMARY:Famous Veterans Birthdays - March 3rd
DESCRIPTION:Famous Veterans Celebrating Birthdays Today (March 3rd):\nFamous Veterans Born March 3\, 1940: \nPerry Ellis – Clothing Designer – (Coast Guard Reserve\, 6 months active duty) – Died: May 30\, 1998 \n \n\n \n(adsbygoogle = window.adsbygoogle || []).push({});
URL:https://famousveterans.com/event/famous-veterans-birthdays-march-3rd/2029-03-03/
CATEGORIES:Birthdays
END:VEVENT
END:VCALENDAR