BEGIN:VCALENDAR
VERSION:2.0
PRODID:-//Famous Veterans - ECPv5.16.4//NONSGML v1.0//EN
CALSCALE:GREGORIAN
METHOD:PUBLISH
X-WR-CALNAME:Famous Veterans
X-ORIGINAL-URL:https://famousveterans.com
X-WR-CALDESC:Events for Famous Veterans
BEGIN:VTIMEZONE
TZID:America/New_York
BEGIN:DAYLIGHT
TZOFFSETFROM:-0500
TZOFFSETTO:-0400
TZNAME:EDT
DTSTART:20280312T070000
END:DAYLIGHT
BEGIN:STANDARD
TZOFFSETFROM:-0400
TZOFFSETTO:-0500
TZNAME:EST
DTSTART:20281105T060000
END:STANDARD
BEGIN:DAYLIGHT
TZOFFSETFROM:-0500
TZOFFSETTO:-0400
TZNAME:EDT
DTSTART:20290311T070000
END:DAYLIGHT
BEGIN:STANDARD
TZOFFSETFROM:-0400
TZOFFSETTO:-0500
TZNAME:EST
DTSTART:20291104T060000
END:STANDARD
END:VTIMEZONE
BEGIN:VEVENT
DTSTART;VALUE=DATE:20280816
DTEND;VALUE=DATE:20290817
DTSTAMP:20260421T010104
CREATED:20170512T213027Z
LAST-MODIFIED:20170512T213027Z
UID:7132-1849996800-1881619199@famousveterans.com
SUMMARY:Famous Veterans Birthdays - August 16th
DESCRIPTION:Famous Veterans Celebrating Birthdays Today (August 16th):\nFamous Veterans Born August 16\, 1924: \nFess Parker – Actor: Daniel Boone\, Old Yeller – (Navy) – Died: March 18\, 2010 \n \n\n \n(adsbygoogle = window.adsbygoogle || []).push({});
URL:https://famousveterans.com/event/famous-veterans-birthdays-august-16th/2028-08-16/
CATEGORIES:Birthdays
END:VEVENT
BEGIN:VEVENT
DTSTART;TZID=America/New_York:20290220T230000
DTEND;TZID=America/New_York:20290221T225959
DTSTAMP:20260421T010104
CREATED:20170512T213635Z
LAST-MODIFIED:20170512T213635Z
UID:7311-1866322800-1866409199@famousveterans.com
SUMMARY:Famous Veterans Birthdays - February 21st
DESCRIPTION:Famous Veterans Celebrating Birthdays Today (February 21st):\nFamous Veterans Born February 21\, 1925: \nSam Peckinpah – Actor\, Director: The Getaway\, The Wild Bunch – (USMC 1943-1946) – Died: December 28\, 1984  \n\n \n(adsbygoogle = window.adsbygoogle || []).push({});
URL:https://famousveterans.com/event/famous-veterans-birthdays-february-21st/2029-02-21/
CATEGORIES:Birthdays
END:VEVENT
BEGIN:VEVENT
DTSTART;TZID=America/New_York:20290221T230000
DTEND;TZID=America/New_York:20290222T225959
DTSTAMP:20260421T010104
CREATED:20170517T201559Z
LAST-MODIFIED:20170517T201559Z
UID:7312-1866409200-1866495599@famousveterans.com
SUMMARY:Famous Veterans Birthdays - February 22nd
DESCRIPTION:Famous Veterans Celebrating Birthdays Today (February 22nd):\nFamous Veterans Born February 22\, 1944: \nTucker Smallwood – Actor: Space: Above and Beyond – (Army Vietnam War 1967-70)  \n\n \n(adsbygoogle = window.adsbygoogle || []).push({});
URL:https://famousveterans.com/event/famous-veterans-birthdays-february-22nd/2029-02-22/
CATEGORIES:Birthdays
END:VEVENT
END:VCALENDAR