BEGIN:VCALENDAR
VERSION:2.0
PRODID:-//Famous Veterans - ECPv5.16.4//NONSGML v1.0//EN
CALSCALE:GREGORIAN
METHOD:PUBLISH
X-WR-CALNAME:Famous Veterans
X-ORIGINAL-URL:https://famousveterans.com
X-WR-CALDESC:Events for Famous Veterans
BEGIN:VTIMEZONE
TZID:America/New_York
BEGIN:DAYLIGHT
TZOFFSETFROM:-0500
TZOFFSETTO:-0400
TZNAME:EDT
DTSTART:20280312T070000
END:DAYLIGHT
BEGIN:STANDARD
TZOFFSETFROM:-0400
TZOFFSETTO:-0500
TZNAME:EST
DTSTART:20281105T060000
END:STANDARD
BEGIN:DAYLIGHT
TZOFFSETFROM:-0500
TZOFFSETTO:-0400
TZNAME:EDT
DTSTART:20290311T070000
END:DAYLIGHT
BEGIN:STANDARD
TZOFFSETFROM:-0400
TZOFFSETTO:-0500
TZNAME:EST
DTSTART:20291104T060000
END:STANDARD
END:VTIMEZONE
BEGIN:VEVENT
DTSTART;VALUE=DATE:20280816
DTEND;VALUE=DATE:20290817
DTSTAMP:20260421T010417
CREATED:20170512T213027Z
LAST-MODIFIED:20170512T213027Z
UID:7132-1849996800-1881619199@famousveterans.com
SUMMARY:Famous Veterans Birthdays - August 16th
DESCRIPTION:Famous Veterans Celebrating Birthdays Today (August 16th):\nFamous Veterans Born August 16\, 1924: \nFess Parker – Actor: Daniel Boone\, Old Yeller – (Navy) – Died: March 18\, 2010 \n \n\n \n(adsbygoogle = window.adsbygoogle || []).push({});
URL:https://famousveterans.com/event/famous-veterans-birthdays-august-16th/2028-08-16/
CATEGORIES:Birthdays
END:VEVENT
BEGIN:VEVENT
DTSTART;VALUE=DATE:20290217
DTEND;VALUE=DATE:20290219
DTSTAMP:20260421T010417
CREATED:20260212T220252Z
LAST-MODIFIED:20260219T143527Z
UID:7304-1866063600-1866149999@famousveterans.com
SUMMARY:Famous Veterans Birthdays - February 18th
DESCRIPTION:Famous Veterans Celebrating Birthdays Today (February 18th):\nFamous Veterans Born February 18\, 1925: \nGeorge Kennedy – Actor: Airport\, Naked Gun – (Army WWII\, 16 years active duty) – Died: February 28\, 2016 \nFamous Veterans Born February 18\, 1919: \nJack Palance – Actor: City Slickers – (Army Air Forces WWII) – Died: November 10\, 2006
URL:https://famousveterans.com/event/famous-veterans-birthdays-february-18th/2029-02-18/
CATEGORIES:Birthdays
END:VEVENT
BEGIN:VEVENT
DTSTART;TZID=America/New_York:20290218T230000
DTEND;TZID=America/New_York:20290219T225959
DTSTAMP:20260421T010417
CREATED:20170518T165952Z
LAST-MODIFIED:20170518T165952Z
UID:7309-1866150000-1866236399@famousveterans.com
SUMMARY:Famous Veterans Birthdays - February 19th
DESCRIPTION:Famous Veterans Celebrating Birthdays Today (February 19th):\nFamous Veterans Born February 19\, 1924: \nLee Marvin – Actor: The Man Who Shot Liberty Valance – (Marine Corps) – Died: August 29\, 1987  \n\n \n(adsbygoogle = window.adsbygoogle || []).push({});
URL:https://famousveterans.com/event/famous-veterans-birthdays-february-19th/2029-02-19/
CATEGORIES:Birthdays
END:VEVENT
END:VCALENDAR