BEGIN:VCALENDAR
VERSION:2.0
PRODID:-//Famous Veterans - ECPv5.16.4//NONSGML v1.0//EN
CALSCALE:GREGORIAN
METHOD:PUBLISH
X-WR-CALNAME:Famous Veterans
X-ORIGINAL-URL:https://famousveterans.com
X-WR-CALDESC:Events for Famous Veterans
BEGIN:VTIMEZONE
TZID:America/New_York
BEGIN:DAYLIGHT
TZOFFSETFROM:-0500
TZOFFSETTO:-0400
TZNAME:EDT
DTSTART:20280312T070000
END:DAYLIGHT
BEGIN:STANDARD
TZOFFSETFROM:-0400
TZOFFSETTO:-0500
TZNAME:EST
DTSTART:20281105T060000
END:STANDARD
BEGIN:DAYLIGHT
TZOFFSETFROM:-0500
TZOFFSETTO:-0400
TZNAME:EDT
DTSTART:20290311T070000
END:DAYLIGHT
BEGIN:STANDARD
TZOFFSETFROM:-0400
TZOFFSETTO:-0500
TZNAME:EST
DTSTART:20291104T060000
END:STANDARD
END:VTIMEZONE
BEGIN:VEVENT
DTSTART;VALUE=DATE:20280816
DTEND;VALUE=DATE:20290817
DTSTAMP:20260420T174056
CREATED:20170512T213027Z
LAST-MODIFIED:20170512T213027Z
UID:7132-1849996800-1881619199@famousveterans.com
SUMMARY:Famous Veterans Birthdays - August 16th
DESCRIPTION:Famous Veterans Celebrating Birthdays Today (August 16th):\nFamous Veterans Born August 16\, 1924: \nFess Parker – Actor: Daniel Boone\, Old Yeller – (Navy) – Died: March 18\, 2010 \n \n\n \n(adsbygoogle = window.adsbygoogle || []).push({});
URL:https://famousveterans.com/event/famous-veterans-birthdays-august-16th/2028-08-16/
CATEGORIES:Birthdays
END:VEVENT
BEGIN:VEVENT
DTSTART;TZID=America/New_York:20281225T230000
DTEND;TZID=America/New_York:20281226T225959
DTSTAMP:20260420T174056
CREATED:20170510T201327Z
LAST-MODIFIED:20170510T201327Z
UID:7240-1861398000-1861484399@famousveterans.com
SUMMARY:Famous Veterans Birthdays - December 26th
DESCRIPTION:Famous Veterans Celebrating Birthdays Today (December 26th):\nFamous Veterans Born December 26\, 1921: \nSteve Allen – Actor\, Musician\, TV Host: first Tonight Show host – (Army) – Died: October 30\, 2000 \n\n \n(adsbygoogle = window.adsbygoogle || []).push({});
URL:https://famousveterans.com/event/famous-veterans-birthdays-december-26th/2028-12-26/
CATEGORIES:Birthdays
END:VEVENT
BEGIN:VEVENT
DTSTART;TZID=America/New_York:20281226T230000
DTEND;TZID=America/New_York:20281227T225959
DTSTAMP:20260420T174056
CREATED:20170510T202116Z
LAST-MODIFIED:20170510T202116Z
UID:7241-1861484400-1861570799@famousveterans.com
SUMMARY:Famous Veterans Birthdays - December 27th
DESCRIPTION:Famous Veterans Celebrating Birthdays Today (December 27th):\nFamous Veterans Born December 27\, 1939: \nJohn Amos – Actor: James Evans on Good Times – (50th Armored Division of the New Jersey National Guard; Honorary Master Chief Coast Guard) – Died: August 21\, 2024
URL:https://famousveterans.com/event/famous-veterans-birthdays-december-27th/2028-12-27/
CATEGORIES:Birthdays
END:VEVENT
END:VCALENDAR