BEGIN:VCALENDAR
VERSION:2.0
PRODID:-//Famous Veterans - ECPv5.16.4//NONSGML v1.0//EN
CALSCALE:GREGORIAN
METHOD:PUBLISH
X-WR-CALNAME:Famous Veterans
X-ORIGINAL-URL:https://famousveterans.com
X-WR-CALDESC:Events for Famous Veterans
BEGIN:VTIMEZONE
TZID:America/New_York
BEGIN:DAYLIGHT
TZOFFSETFROM:-0500
TZOFFSETTO:-0400
TZNAME:EDT
DTSTART:20270314T070000
END:DAYLIGHT
BEGIN:STANDARD
TZOFFSETFROM:-0400
TZOFFSETTO:-0500
TZNAME:EST
DTSTART:20271107T060000
END:STANDARD
BEGIN:DAYLIGHT
TZOFFSETFROM:-0500
TZOFFSETTO:-0400
TZNAME:EDT
DTSTART:20280312T070000
END:DAYLIGHT
BEGIN:STANDARD
TZOFFSETFROM:-0400
TZOFFSETTO:-0500
TZNAME:EST
DTSTART:20281105T060000
END:STANDARD
END:VTIMEZONE
BEGIN:VEVENT
DTSTART;VALUE=DATE:20270816
DTEND;VALUE=DATE:20280816
DTSTAMP:20260420T011539
CREATED:20170512T213027Z
LAST-MODIFIED:20250804T131150Z
UID:7063-1818374400-1849996799@famousveterans.com
SUMMARY:Famous Veterans Birthdays - August 16th
DESCRIPTION:Famous Veterans Celebrating Birthdays Today (August 16th):\nFamous Veterans Born August 16\, 1924: \nFess Parker – Actor: Daniel Boone\, Old Yeller – (Navy) – Died: March 18\, 2010
URL:https://famousveterans.com/event/famous-veterans-birthdays-august-16th/2027-08-16/
CATEGORIES:Birthdays
END:VEVENT
BEGIN:VEVENT
DTSTART;TZID=America/New_York:20280223T230000
DTEND;TZID=America/New_York:20280224T225959
DTSTAMP:20260420T011539
CREATED:20170519T202221Z
LAST-MODIFIED:20170519T202221Z
UID:6550-1834959600-1835045999@famousveterans.com
SUMMARY:Famous Veterans Birthdays - February 24th
DESCRIPTION:Famous Veterans Celebrating Birthdays Today (February 24th):\nFamous Veterans Born February 24\, 1945: \nClarence “Mac” McDonald – was a Los Angeles-based American pianist\, composer\, arranger\, and producer. McDonald was known for his musical diversity\, enduring melodies and signature groove. His most famous composition is Silly sung by Deniece Williams in 1981 and Taral Hicks in 1997. In 2010\, the song’s instrumental intro and bridge were sampled in Monica’s seven week-long Billboard No. 1 R&B Grammy nominated song “Everything To Me”. He worked with a long list of entertainment icons including Ray Charles\, Barbra Streisand\, Ella Fitzgerald\, Justin Timberlake\, Aretha Franklin\, James Taylor\, Carole King\, Taral Hicks\, Freddy Hubbard\, Nancy Wilson\, Boz Scaggs\, Seals & Crofts\, Bill Withers\, and the Jackson 5. McDonald performed on the all-star benefit album Jazz For Japan (Avatar Records)\, released in September 2011. In 1966\, when his ascent in the music world appeared to anticipate no limit\, McDonald was drafted into the United States Army and sent to Vietnam\, where he served for two years. His division was sent home on January 7\, 1968\, the day before the North Vietnamese overran and destroyed their base camp in the Tet Offensive. McDonald received an Honorable Discharge and was awarded the National Defense Service Medal\, the Vietnam Service Medal\, and the Vietnam Campaign Medal. McDonald returned to the music business\, contributing to thousands of songs as a session player. Some of his first sessions were for Motown (Los Angeles) recording with Diana Ross\, Gladys Knight & the Pips and the Jackson 5\, leading him to play on a number of Motown recordings throughout the years\, including the Jackson 5’s first hit\, I Want You Back. Clarence “Mac” McDonald passed away July 21\, 2021 at the age of 76 from complications related to cancer. \nFamous Veterans Born February 24\, 1922: \nSteven Hill – Actor: Mission Impossible\, Law & Order – (Navy WWII) – Died: August 23\, 2016  \n\n \n(adsbygoogle = window.adsbygoogle || []).push({});
URL:https://famousveterans.com/event/famous-veterans-birthdays-february-24th/2028-02-24/
CATEGORIES:Birthdays
END:VEVENT
BEGIN:VEVENT
DTSTART;TZID=America/New_York:20280224T230000
DTEND;TZID=America/New_York:20280225T225959
DTSTAMP:20260420T011539
CREATED:20170517T154322Z
LAST-MODIFIED:20170517T154322Z
UID:6551-1835046000-1835132399@famousveterans.com
SUMMARY:Famous Veterans Birthdays - February 25th
DESCRIPTION:Famous Veterans Celebrating Birthdays Today (February 25th):\nFamous Veterans Born February 25\, 1931: \nChristopher George – Actor: The Rat Patrol – (Marine Corps) – Died: November 28\, 1983  \n\n // <![CDATA[\n\n(adsbygoogle = window.adsbygoogle || []).push({});\n</scrip \n\n \n\n \n\n \n\n \n\n \n\n \n\n \n\n \n\n \n\n \n\n \n\n \n\n \n\n \n\n \n\n \n\n \n\n \n\n \n\n \n\n \n\n \n\n \n\n \n\n \n\n \n\n \n\n \n\n \n\n \n\n \n\n// ]]>
URL:https://famousveterans.com/event/famous-veterans-birthdays-february-25th/2028-02-25/
CATEGORIES:Birthdays
END:VEVENT
END:VCALENDAR