BEGIN:VCALENDAR
VERSION:2.0
PRODID:-//Famous Veterans - ECPv5.16.4//NONSGML v1.0//EN
CALSCALE:GREGORIAN
METHOD:PUBLISH
X-WR-CALNAME:Famous Veterans
X-ORIGINAL-URL:https://famousveterans.com
X-WR-CALDESC:Events for Famous Veterans
BEGIN:VTIMEZONE
TZID:America/New_York
BEGIN:DAYLIGHT
TZOFFSETFROM:-0500
TZOFFSETTO:-0400
TZNAME:EDT
DTSTART:20270314T070000
END:DAYLIGHT
BEGIN:STANDARD
TZOFFSETFROM:-0400
TZOFFSETTO:-0500
TZNAME:EST
DTSTART:20271107T060000
END:STANDARD
BEGIN:DAYLIGHT
TZOFFSETFROM:-0500
TZOFFSETTO:-0400
TZNAME:EDT
DTSTART:20280312T070000
END:DAYLIGHT
BEGIN:STANDARD
TZOFFSETFROM:-0400
TZOFFSETTO:-0500
TZNAME:EST
DTSTART:20281105T060000
END:STANDARD
END:VTIMEZONE
BEGIN:VEVENT
DTSTART;VALUE=DATE:20270816
DTEND;VALUE=DATE:20280816
DTSTAMP:20260420T024559
CREATED:20170512T213027Z
LAST-MODIFIED:20250804T131150Z
UID:7063-1818374400-1849996799@famousveterans.com
SUMMARY:Famous Veterans Birthdays - August 16th
DESCRIPTION:Famous Veterans Celebrating Birthdays Today (August 16th):\nFamous Veterans Born August 16\, 1924: \nFess Parker – Actor: Daniel Boone\, Old Yeller – (Navy) – Died: March 18\, 2010
URL:https://famousveterans.com/event/famous-veterans-birthdays-august-16th/2027-08-16/
CATEGORIES:Birthdays
END:VEVENT
BEGIN:VEVENT
DTSTART;TZID=America/New_York:20280216T230000
DTEND;TZID=America/New_York:20280217T225959
DTSTAMP:20260420T024559
CREATED:20170518T203137Z
LAST-MODIFIED:20170518T203137Z
UID:6542-1834354800-1834441199@famousveterans.com
SUMMARY:Famous Veterans Birthdays - February 17th - Hal Holbrook - Wayne Morris
DESCRIPTION:Famous Veterans Celebrating Birthdays Today (February 17th):\nFamous Veterans Born February 17\, 1925: \nHal Holbrook – Actor – (Army) – Died: January 23\, 2021  \nFamous Veterans Born February 17\, 1914: \nWayne Morris – Actor: Paths of Glory – (Navy WWII pilot aboard USS Essex) – Died: September 14\, 1959  \n\n \n(adsbygoogle = window.adsbygoogle || []).push({});
URL:https://famousveterans.com/event/famous-veterans-birthdays-february-17th/2028-02-17/
CATEGORIES:Birthdays
END:VEVENT
BEGIN:VEVENT
DTSTART;VALUE=DATE:20280217
DTEND;VALUE=DATE:20280219
DTSTAMP:20260420T024559
CREATED:20260212T220252Z
LAST-MODIFIED:20260219T143526Z
UID:6543-1834441200-1834527599@famousveterans.com
SUMMARY:Famous Veterans Birthdays - February 18th
DESCRIPTION:Famous Veterans Celebrating Birthdays Today (February 18th):\nFamous Veterans Born February 18\, 1925: \nGeorge Kennedy – Actor: Airport\, Naked Gun – (Army WWII\, 16 years active duty) – Died: February 28\, 2016 \nFamous Veterans Born February 18\, 1919: \nJack Palance – Actor: City Slickers – (Army Air Forces WWII) – Died: November 10\, 2006
URL:https://famousveterans.com/event/famous-veterans-birthdays-february-18th/2028-02-18/
CATEGORIES:Birthdays
END:VEVENT
END:VCALENDAR