BEGIN:VCALENDAR
VERSION:2.0
PRODID:-//Famous Veterans - ECPv5.16.4//NONSGML v1.0//EN
CALSCALE:GREGORIAN
METHOD:PUBLISH
X-WR-CALNAME:Famous Veterans
X-ORIGINAL-URL:https://famousveterans.com
X-WR-CALDESC:Events for Famous Veterans
BEGIN:VTIMEZONE
TZID:America/New_York
BEGIN:DAYLIGHT
TZOFFSETFROM:-0500
TZOFFSETTO:-0400
TZNAME:EDT
DTSTART:20270314T070000
END:DAYLIGHT
BEGIN:STANDARD
TZOFFSETFROM:-0400
TZOFFSETTO:-0500
TZNAME:EST
DTSTART:20271107T060000
END:STANDARD
BEGIN:DAYLIGHT
TZOFFSETFROM:-0500
TZOFFSETTO:-0400
TZNAME:EDT
DTSTART:20280312T070000
END:DAYLIGHT
BEGIN:STANDARD
TZOFFSETFROM:-0400
TZOFFSETTO:-0500
TZNAME:EST
DTSTART:20281105T060000
END:STANDARD
END:VTIMEZONE
BEGIN:VEVENT
DTSTART;VALUE=DATE:20270816
DTEND;VALUE=DATE:20280816
DTSTAMP:20260419T234029
CREATED:20170512T213027Z
LAST-MODIFIED:20250804T131150Z
UID:7063-1818374400-1849996799@famousveterans.com
SUMMARY:Famous Veterans Birthdays - August 16th
DESCRIPTION:Famous Veterans Celebrating Birthdays Today (August 16th):\nFamous Veterans Born August 16\, 1924: \nFess Parker – Actor: Daniel Boone\, Old Yeller – (Navy) – Died: March 18\, 2010
URL:https://famousveterans.com/event/famous-veterans-birthdays-august-16th/2027-08-16/
CATEGORIES:Birthdays
END:VEVENT
BEGIN:VEVENT
DTSTART;TZID=America/New_York:20280121T230000
DTEND;TZID=America/New_York:20280122T225959
DTSTAMP:20260419T234029
CREATED:20170511T145138Z
LAST-MODIFIED:20170511T145138Z
UID:6439-1832108400-1832194799@famousveterans.com
SUMMARY:Famous Veterans Birthdays - January 22nd
DESCRIPTION:Famous Veterans Celebrating Birthdays Today (January 22nd):\nFamous Veterans Born January 22\, 1934: \nBill Bixby – Actor: David Banner on The Incredible Hulk – (Marine Corps) – Died: November 21\, 1993
URL:https://famousveterans.com/event/famous-veterans-birthdays-january-22nd/2028-01-22/
CATEGORIES:Birthdays
END:VEVENT
BEGIN:VEVENT
DTSTART;TZID=America/New_York:20280122T230000
DTEND;TZID=America/New_York:20280123T225959
DTSTAMP:20260419T234029
CREATED:20170517T173526Z
LAST-MODIFIED:20170517T173526Z
UID:6440-1832194800-1832281199@famousveterans.com
SUMMARY:Famous Veterans Birthdays - January 23rd
DESCRIPTION:Famous Veterans Celebrating Birthdays Today (January 23rd):\nFamous Veterans Born January 23\, 1898: \nRandolf Scott – Actor: Ride the High Country – (Army WWI) – Died: March 2\, 1987  \n\n \n(adsbygoogle = window.adsbygoogle || []).push({});
URL:https://famousveterans.com/event/famous-veterans-birthdays-january-23rd/2028-01-23/
CATEGORIES:Birthdays
END:VEVENT
END:VCALENDAR