BEGIN:VCALENDAR
VERSION:2.0
PRODID:-//Famous Veterans - ECPv5.16.4//NONSGML v1.0//EN
CALSCALE:GREGORIAN
METHOD:PUBLISH
X-WR-CALNAME:Famous Veterans
X-ORIGINAL-URL:https://famousveterans.com
X-WR-CALDESC:Events for Famous Veterans
BEGIN:VTIMEZONE
TZID:America/New_York
BEGIN:DAYLIGHT
TZOFFSETFROM:-0500
TZOFFSETTO:-0400
TZNAME:EDT
DTSTART:20270314T070000
END:DAYLIGHT
BEGIN:STANDARD
TZOFFSETFROM:-0400
TZOFFSETTO:-0500
TZNAME:EST
DTSTART:20271107T060000
END:STANDARD
BEGIN:DAYLIGHT
TZOFFSETFROM:-0500
TZOFFSETTO:-0400
TZNAME:EDT
DTSTART:20280312T070000
END:DAYLIGHT
BEGIN:STANDARD
TZOFFSETFROM:-0400
TZOFFSETTO:-0500
TZNAME:EST
DTSTART:20281105T060000
END:STANDARD
END:VTIMEZONE
BEGIN:VEVENT
DTSTART;VALUE=DATE:20270816
DTEND;VALUE=DATE:20280816
DTSTAMP:20260419T233640
CREATED:20170512T213027Z
LAST-MODIFIED:20250804T131150Z
UID:7063-1818374400-1849996799@famousveterans.com
SUMMARY:Famous Veterans Birthdays - August 16th
DESCRIPTION:Famous Veterans Celebrating Birthdays Today (August 16th):\nFamous Veterans Born August 16\, 1924: \nFess Parker – Actor: Daniel Boone\, Old Yeller – (Navy) – Died: March 18\, 2010
URL:https://famousveterans.com/event/famous-veterans-birthdays-august-16th/2027-08-16/
CATEGORIES:Birthdays
END:VEVENT
BEGIN:VEVENT
DTSTART;TZID=America/New_York:20280116T230000
DTEND;TZID=America/New_York:20280117T225959
DTSTAMP:20260419T233640
CREATED:20170511T202141Z
LAST-MODIFIED:20170511T202141Z
UID:6428-1831676400-1831762799@famousveterans.com
SUMMARY:Famous Veterans Birthdays - January 17th
DESCRIPTION:Famous Veterans Celebrating Birthdays Today (January 17th):\nFamous Veterans Born January 17\, 1931: \nJames Earl Jones – Actor: Field of Dreams\,Voice of Darth Vader – (Army Rangers 1953-1955 Korean War). With the war intensifying in Korea\, Jones expected to be deployed as soon as he received his commission as a second lieutenant. As he waited for his orders\, he worked as a part-time stage crew hand at the Ramsdell Theatre in Manistee\, Michigan\, where he had earlier performed. Jones was commissioned in mid-1953\, after the Korean War’s end\, and reported to Fort Benning to attend the Infantry Officers Basic Course. He attended Ranger School and received his Ranger Tab. He was initially to report to Fort Leonard Wood\, but his unit was instead sent to establish a cold weather training command at the former Camp Hale near Leadville\, Colorado. His battalion became a training unit in the rugged terrain of the Rocky Mountains. Jones was promoted to first lieutenant prior to his discharge. Died: September 9\, 2024 \n  \n \n\n \n(adsbygoogle = window.adsbygoogle || []).push({});
URL:https://famousveterans.com/event/famous-veterans-birthdays-january-17th/2028-01-17/
CATEGORIES:Birthdays
END:VEVENT
BEGIN:VEVENT
DTSTART;TZID=America/New_York:20280117T230000
DTEND;TZID=America/New_York:20280118T225959
DTSTAMP:20260419T233640
CREATED:20170511T144136Z
LAST-MODIFIED:20170511T144136Z
UID:6429-1831762800-1831849199@famousveterans.com
SUMMARY:Famous Veterans Birthdays - January 18th
DESCRIPTION:Famous Veterans Celebrating Birthdays Today (January 18th):\nFamous Veterans Born January 18\, 1922: \nBob Bell – Actor: Bozo The Clown – (Marine Corps medical discharge\, then Navy) – Died: December 8\, 1997 \n\n\nFamous Veterans born today include: #BozotheClown actor #BobBell! Bell was certainly no clown in real life! After high school Bell enlisted first in the #UnitedStates #MarineCorps and later the U.S.Navy during #WorldWarII\, though he did not see any combat action due to the loss of vision in his right eye. Bell was able to pass the induction examination for the Marines by memorizing eye charts. He had a medical discharge from the Marines less than a year after joining in 1941. Bell then went to the Navy where he served in the Pacific Theater until 1946. See if your favorite celeb served: FamousVeterans.com\n\n\n \n\n \n(adsbygoogle = window.adsbygoogle || []).push({});
URL:https://famousveterans.com/event/famous-veterans-birthdays-january-18th/2028-01-18/
CATEGORIES:Birthdays
END:VEVENT
END:VCALENDAR