BEGIN:VCALENDAR
VERSION:2.0
PRODID:-//Famous Veterans - ECPv5.16.4//NONSGML v1.0//EN
CALSCALE:GREGORIAN
METHOD:PUBLISH
X-WR-CALNAME:Famous Veterans
X-ORIGINAL-URL:https://famousveterans.com
X-WR-CALDESC:Events for Famous Veterans
BEGIN:VTIMEZONE
TZID:America/New_York
BEGIN:DAYLIGHT
TZOFFSETFROM:-0500
TZOFFSETTO:-0400
TZNAME:EDT
DTSTART:20270314T070000
END:DAYLIGHT
BEGIN:STANDARD
TZOFFSETFROM:-0400
TZOFFSETTO:-0500
TZNAME:EST
DTSTART:20271107T060000
END:STANDARD
BEGIN:DAYLIGHT
TZOFFSETFROM:-0500
TZOFFSETTO:-0400
TZNAME:EDT
DTSTART:20280312T070000
END:DAYLIGHT
BEGIN:STANDARD
TZOFFSETFROM:-0400
TZOFFSETTO:-0500
TZNAME:EST
DTSTART:20281105T060000
END:STANDARD
END:VTIMEZONE
BEGIN:VEVENT
DTSTART;VALUE=DATE:20270816
DTEND;VALUE=DATE:20280816
DTSTAMP:20260419T234127
CREATED:20170512T213027Z
LAST-MODIFIED:20250804T131150Z
UID:7063-1818374400-1849996799@famousveterans.com
SUMMARY:Famous Veterans Birthdays - August 16th
DESCRIPTION:Famous Veterans Celebrating Birthdays Today (August 16th):\nFamous Veterans Born August 16\, 1924: \nFess Parker – Actor: Daniel Boone\, Old Yeller – (Navy) – Died: March 18\, 2010
URL:https://famousveterans.com/event/famous-veterans-birthdays-august-16th/2027-08-16/
CATEGORIES:Birthdays
END:VEVENT
BEGIN:VEVENT
DTSTART;TZID=America/New_York:20280114T230000
DTEND;TZID=America/New_York:20280115T225959
DTSTAMP:20260419T234127
CREATED:20170511T154327Z
LAST-MODIFIED:20170511T154327Z
UID:6402-1831503600-1831589999@famousveterans.com
SUMMARY:Famous Veterans Birthdays - January 15th
DESCRIPTION:Famous Veterans Celebrating Birthdays Today (January 15th):\nFamous Veterans Born January 15\, 1913: \nLloyd Bridges – Actor – (Coast Guard WWII\, Coast Guard Auxiliary) – Died: March 10\, 1998 \nLloyd Bridges’ Military Experience: …he left Columbia Pictures during World War II to enlist in the United States Coast Guard. Following his discharge\, he returned to acting. In later years he was a member of the U.S. Coast Guard Auxiliary\, 11th District (California) and did several public service announcements for the Coast Guard. Bridge’s Sea Hunt character Mike Nelson was portrayed as a member of the Coast Guard Auxiliary and sometimes appeared in uniform. Because of his support\, he was made an honorary commodore in the Auxiliary. Bridges’ sons\, actors Beau and Jeff\, also served in the Coast Guard and Coast Guard Reserve. \nHappy birthday! And thank you for your service! \n \n\n \n(adsbygoogle = window.adsbygoogle || []).push({});
URL:https://famousveterans.com/event/famous-veterans-birthdays-january-15th/2028-01-15/
CATEGORIES:Birthdays
END:VEVENT
END:VCALENDAR