BEGIN:VCALENDAR
VERSION:2.0
PRODID:-//Famous Veterans - ECPv5.16.4//NONSGML v1.0//EN
CALSCALE:GREGORIAN
METHOD:PUBLISH
X-WR-CALNAME:Famous Veterans
X-ORIGINAL-URL:https://famousveterans.com
X-WR-CALDESC:Events for Famous Veterans
BEGIN:VTIMEZONE
TZID:America/New_York
BEGIN:DAYLIGHT
TZOFFSETFROM:-0500
TZOFFSETTO:-0400
TZNAME:EDT
DTSTART:20270314T070000
END:DAYLIGHT
BEGIN:STANDARD
TZOFFSETFROM:-0400
TZOFFSETTO:-0500
TZNAME:EST
DTSTART:20271107T060000
END:STANDARD
BEGIN:DAYLIGHT
TZOFFSETFROM:-0500
TZOFFSETTO:-0400
TZNAME:EDT
DTSTART:20280312T070000
END:DAYLIGHT
BEGIN:STANDARD
TZOFFSETFROM:-0400
TZOFFSETTO:-0500
TZNAME:EST
DTSTART:20281105T060000
END:STANDARD
END:VTIMEZONE
BEGIN:VEVENT
DTSTART;VALUE=DATE:20270816
DTEND;VALUE=DATE:20280816
DTSTAMP:20260419T234028
CREATED:20170512T213027Z
LAST-MODIFIED:20250804T131150Z
UID:7063-1818374400-1849996799@famousveterans.com
SUMMARY:Famous Veterans Birthdays - August 16th
DESCRIPTION:Famous Veterans Celebrating Birthdays Today (August 16th):\nFamous Veterans Born August 16\, 1924: \nFess Parker – Actor: Daniel Boone\, Old Yeller – (Navy) – Died: March 18\, 2010
URL:https://famousveterans.com/event/famous-veterans-birthdays-august-16th/2027-08-16/
CATEGORIES:Birthdays
END:VEVENT
BEGIN:VEVENT
DTSTART;TZID=America/New_York:20280102T230000
DTEND;TZID=America/New_York:20280103T225959
DTSTAMP:20260419T234028
CREATED:20170512T173511Z
LAST-MODIFIED:20170512T173511Z
UID:6317-1830466800-1830553199@famousveterans.com
SUMMARY:Famous Veterans Birthdays - January 3rd
DESCRIPTION:Famous Veterans Celebrating Birthdays Today (January 3rd):\nFamous Veterans Born January 3\, 1932: \nDabney Coleman – Actor: 9 to 5\, Mr. Mom – (Army) – Died: May 16\, 2024 \nFamous Veterans Born January 3\, 1930: \nRobert Loggia – Actor: The Jagged Edge – (Army 1951-1953) – Died: December 4\, 2015 \nFamous Veterans Born January 3\, 1921: \nJohn Russell – Actor: Dan Troop on Lawman – (Marine Corps WWII) – Died: January 19\, 1991  \n\n \n(adsbygoogle = window.adsbygoogle || []).push({});
URL:https://famousveterans.com/event/famous-veterans-birthdays-january-3rd/2028-01-03/
CATEGORIES:Birthdays
END:VEVENT
BEGIN:VEVENT
DTSTART;TZID=America/New_York:20280103T230000
DTEND;TZID=America/New_York:20280104T225959
DTSTAMP:20260419T234028
CREATED:20200507T145435Z
LAST-MODIFIED:20200507T145435Z
UID:6318-1830553200-1830639599@famousveterans.com
SUMMARY:Famous Veterans Birthdays - January 4th
DESCRIPTION:Famous Veterans Celebrating Birthdays Today (January 4th):\nFamous Veterans Born January 4\, 1930: \nDon Shula – NFL Coach (Miami Dolphins) – (Ohio National Guard activated during Korean War) – Died: May 4\, 2020. \nFamous Veterans Born January 4\, 1925: \nJohnny Lujack – NFL player who was a quarterback and defensive back for the Chicago Bears. Played for the Notre Dame Fighting Irish\, winning the Heisman Trophy in 1947 –  (U.S. Navy Officer WWII – spent time hunting German submarines in the English Channel) – Died: July 25\, 2023 (at the time of his death he was the oldest living recipient of the Heisman Trophy)
URL:https://famousveterans.com/event/famous-veterans-birthdays-january-4th/2028-01-04/
CATEGORIES:Birthdays
END:VEVENT
END:VCALENDAR