BEGIN:VCALENDAR
VERSION:2.0
PRODID:-//Famous Veterans - ECPv5.16.4//NONSGML v1.0//EN
CALSCALE:GREGORIAN
METHOD:PUBLISH
X-WR-CALNAME:Famous Veterans
X-ORIGINAL-URL:https://famousveterans.com
X-WR-CALDESC:Events for Famous Veterans
BEGIN:VTIMEZONE
TZID:America/New_York
BEGIN:DAYLIGHT
TZOFFSETFROM:-0500
TZOFFSETTO:-0400
TZNAME:EDT
DTSTART:20270314T070000
END:DAYLIGHT
BEGIN:STANDARD
TZOFFSETFROM:-0400
TZOFFSETTO:-0500
TZNAME:EST
DTSTART:20271107T060000
END:STANDARD
BEGIN:DAYLIGHT
TZOFFSETFROM:-0500
TZOFFSETTO:-0400
TZNAME:EDT
DTSTART:20280312T070000
END:DAYLIGHT
BEGIN:STANDARD
TZOFFSETFROM:-0400
TZOFFSETTO:-0500
TZNAME:EST
DTSTART:20281105T060000
END:STANDARD
END:VTIMEZONE
BEGIN:VEVENT
DTSTART;VALUE=DATE:20270816
DTEND;VALUE=DATE:20280816
DTSTAMP:20260419T221128
CREATED:20170512T213027Z
LAST-MODIFIED:20250804T131150Z
UID:7063-1818374400-1849996799@famousveterans.com
SUMMARY:Famous Veterans Birthdays - August 16th
DESCRIPTION:Famous Veterans Celebrating Birthdays Today (August 16th):\nFamous Veterans Born August 16\, 1924: \nFess Parker – Actor: Daniel Boone\, Old Yeller – (Navy) – Died: March 18\, 2010
URL:https://famousveterans.com/event/famous-veterans-birthdays-august-16th/2027-08-16/
CATEGORIES:Birthdays
END:VEVENT
BEGIN:VEVENT
DTSTART;TZID=America/New_York:20271212T230000
DTEND;TZID=America/New_York:20271213T225959
DTSTAMP:20260419T221128
CREATED:20170517T174616Z
LAST-MODIFIED:20170517T174616Z
UID:6289-1828652400-1828738799@famousveterans.com
SUMMARY:Famous Veterans Birthdays - December 13th
DESCRIPTION:Famous Veterans Celebrating Birthdays Today (December 13th):\nFamous Veterans Born December 13\, 1931: \nBubba Morton – Major League Baseball: Tigers\, Braves\, Angels – (USCGR Retired) – Died: January 14\, 2006 \nFamous Veterans Born December 13\, 1925: \nDick Van Dyke – Actor\, entertainer\, and comedian (older brother of Jerry Van Dyke – (Army Air Forces WWII). Van Dyke left high school during his senior year to join the United States Army Air Forces for pilot training during World War II. Denied enlistment several times for being underweight\, he was eventually accepted for service as a radio announcer before transferring to the Special Services and entertaining troops in the continental United States. He was discharged in 1946. \nFamous Veterans Born December 13\, 1920: \nGeorge Pratt Schultz – Secretary of State under Reagan – (Marine Corps 1942-1945) – Died: February 6\, 2021 at the age of 100 \n\n \n(adsbygoogle = window.adsbygoogle || []).push({});
URL:https://famousveterans.com/event/famous-veterans-birthdays-december-13th/2027-12-13/
CATEGORIES:Birthdays
END:VEVENT
BEGIN:VEVENT
DTSTART;TZID=America/New_York:20271213T230000
DTEND;TZID=America/New_York:20271214T225959
DTSTAMP:20260419T221128
CREATED:20221020T211755Z
LAST-MODIFIED:20221020T211755Z
UID:6290-1828738800-1828825199@famousveterans.com
SUMMARY:Famous Veterans Birthdays - December 14th
DESCRIPTION:Famous Veterans Celebrating Birthdays Today (December 14th):\nFamous Veterans Born December 14\, 1921: \nCharley Trippi – NFL: Chicago Cardinals – (Fourth Air Force (4AF) WWII). In 1945–while serving–Trippi was drafted by the Chicago Cardinals of the NFL (as a future pick). – Died: October 19\, 2022 \n\n \n(adsbygoogle = window.adsbygoogle || []).push({});
URL:https://famousveterans.com/event/famous-veterans-birthdays-december-14th/2027-12-14/
CATEGORIES:Birthdays
END:VEVENT
END:VCALENDAR