BEGIN:VCALENDAR
VERSION:2.0
PRODID:-//Famous Veterans - ECPv5.16.4//NONSGML v1.0//EN
CALSCALE:GREGORIAN
METHOD:PUBLISH
X-WR-CALNAME:Famous Veterans
X-ORIGINAL-URL:https://famousveterans.com
X-WR-CALDESC:Events for Famous Veterans
BEGIN:VTIMEZONE
TZID:America/New_York
BEGIN:DAYLIGHT
TZOFFSETFROM:-0500
TZOFFSETTO:-0400
TZNAME:EDT
DTSTART:20270314T070000
END:DAYLIGHT
BEGIN:STANDARD
TZOFFSETFROM:-0400
TZOFFSETTO:-0500
TZNAME:EST
DTSTART:20271107T060000
END:STANDARD
BEGIN:DAYLIGHT
TZOFFSETFROM:-0500
TZOFFSETTO:-0400
TZNAME:EDT
DTSTART:20280312T070000
END:DAYLIGHT
BEGIN:STANDARD
TZOFFSETFROM:-0400
TZOFFSETTO:-0500
TZNAME:EST
DTSTART:20281105T060000
END:STANDARD
END:VTIMEZONE
BEGIN:VEVENT
DTSTART;VALUE=DATE:20270816
DTEND;VALUE=DATE:20280816
DTSTAMP:20260419T220310
CREATED:20170512T213027Z
LAST-MODIFIED:20250804T131150Z
UID:7063-1818374400-1849996799@famousveterans.com
SUMMARY:Famous Veterans Birthdays - August 16th
DESCRIPTION:Famous Veterans Celebrating Birthdays Today (August 16th):\nFamous Veterans Born August 16\, 1924: \nFess Parker – Actor: Daniel Boone\, Old Yeller – (Navy) – Died: March 18\, 2010
URL:https://famousveterans.com/event/famous-veterans-birthdays-august-16th/2027-08-16/
CATEGORIES:Birthdays
END:VEVENT
BEGIN:VEVENT
DTSTART;TZID=America/New_York:20271207T230000
DTEND;TZID=America/New_York:20271208T225959
DTSTAMP:20260419T220310
CREATED:20170510T212341Z
LAST-MODIFIED:20170510T212341Z
UID:6286-1828220400-1828306799@famousveterans.com
SUMMARY:Famous Veterans Birthdays - December 8th
DESCRIPTION:Famous Veterans Celebrating Birthdays Today (December 8th):\nFamous Veterans Born December 8\, 1936: \nDavid Carradine – Actor: Kung Fu – (Army) – Died: June 3\, 2009 \nFamous Veterans Born December 8\, 1933: \nFlip Wilson – Comedian\, Actor: The Flip Wilson Show – (Air Force 1950-1954) – Died: November 25\, 1998 \nFamous Veterans Born December 8\, 1925: \nSammy Davis Jr. – Actor\, Singer – (Army WWII) – Died: May 16\, 1990 \nFamous Veterans Born December 8\, 1925: \nLee J. Cobb – Actor: The Left Hand of God – (Army Air Forces WWII 1942-1946) – Died: February 11\, 1976 \n\n \n(adsbygoogle = window.adsbygoogle || []).push({});
URL:https://famousveterans.com/event/famous-veterans-birthdays-december-8th/2027-12-08/
CATEGORIES:Birthdays
END:VEVENT
BEGIN:VEVENT
DTSTART;TZID=America/New_York:20271208T230000
DTEND;TZID=America/New_York:20271209T225959
DTSTAMP:20260419T220310
CREATED:20170511T153925Z
LAST-MODIFIED:20170511T153925Z
UID:6287-1828306800-1828393199@famousveterans.com
SUMMARY:Famous Veterans Birthdays - December 9th
DESCRIPTION:Famous Veterans Celebrating Birthdays Today (December 9th):\nFamous Veterans Born December 9\, 1974: \nCanibus (Germaine Williams) – Rapper – (Army) \nFamous Veterans Born December 9\, 1941: \nBeau Bridges – Actor – (Coast Guard Reserve for 8 years) \nFamous Veterans Born December 9\, 1930: \nBuck Henry – American actor\, screenwriter\, and director. He was twice nominated for an Academy Award\, in 1968 for Best Adapted Screenplay for The Graduate and in 1979 for Best Director for Heaven Can Wait alongside Warren Beatty. His long career began on television with work on shows with Steve Allen in The New Steve Allen Show (1961). He went on to co-create Get Smart (1965-1970) with Mel Brooks\, and hosted Saturday Night Live 10 times from 1976 to 1980. He later guest starred in shows such as Murphy Brown\, Will & Grace\, and 30 Rock – (Following graduation\, he enlisted in the Army during the Korean War. Instead of engaging in combat\, however\, he served in West Germany first as a helicopter mechanic then he transferred to Special Services where he toured with the Seventh Army Repertory Company\, performing in a play he wrote and directed) – Died: January 8\, 2020 \nFamous Veterans Born December 9\, 1916: \nKirk Douglas – Actor: Spartacus – (Navy WWII) – Died: February 5\, 2020 (at 103 years old) \nFamous Veterans Born December 9\, 1916: \nDouglas Fairbanks\, Jr. – Actor: Sinbad the Sailor – (Navy WWII 1941-1946) – Died: May 7\, 2000 \n\n \n(adsbygoogle = window.adsbygoogle || []).push({});
URL:https://famousveterans.com/event/famous-veterans-birthdays-december-9th/2027-12-09/
CATEGORIES:Birthdays
END:VEVENT
END:VCALENDAR