BEGIN:VCALENDAR
VERSION:2.0
PRODID:-//Famous Veterans - ECPv5.16.4//NONSGML v1.0//EN
CALSCALE:GREGORIAN
METHOD:PUBLISH
X-WR-CALNAME:Famous Veterans
X-ORIGINAL-URL:https://famousveterans.com
X-WR-CALDESC:Events for Famous Veterans
BEGIN:VTIMEZONE
TZID:America/New_York
BEGIN:DAYLIGHT
TZOFFSETFROM:-0500
TZOFFSETTO:-0400
TZNAME:EDT
DTSTART:20270314T070000
END:DAYLIGHT
BEGIN:STANDARD
TZOFFSETFROM:-0400
TZOFFSETTO:-0500
TZNAME:EST
DTSTART:20271107T060000
END:STANDARD
BEGIN:DAYLIGHT
TZOFFSETFROM:-0500
TZOFFSETTO:-0400
TZNAME:EDT
DTSTART:20280312T070000
END:DAYLIGHT
BEGIN:STANDARD
TZOFFSETFROM:-0400
TZOFFSETTO:-0500
TZNAME:EST
DTSTART:20281105T060000
END:STANDARD
END:VTIMEZONE
BEGIN:VEVENT
DTSTART;VALUE=DATE:20270816
DTEND;VALUE=DATE:20280816
DTSTAMP:20260419T220357
CREATED:20170512T213027Z
LAST-MODIFIED:20250804T131150Z
UID:7063-1818374400-1849996799@famousveterans.com
SUMMARY:Famous Veterans Birthdays - August 16th
DESCRIPTION:Famous Veterans Celebrating Birthdays Today (August 16th):\nFamous Veterans Born August 16\, 1924: \nFess Parker – Actor: Daniel Boone\, Old Yeller – (Navy) – Died: March 18\, 2010
URL:https://famousveterans.com/event/famous-veterans-birthdays-august-16th/2027-08-16/
CATEGORIES:Birthdays
END:VEVENT
BEGIN:VEVENT
DTSTART;VALUE=DATE:20271205
DTEND;VALUE=DATE:20271207
DTSTAMP:20260419T220357
CREATED:20170517T163953Z
LAST-MODIFIED:20241206T142607Z
UID:6164-1828047600-1828133999@famousveterans.com
SUMMARY:Famous Veterans Birthdays - December 6th
DESCRIPTION:Famous Veterans Celebrating Birthdays Today (December 6th):\nFamous Veterans Born December 6\, 1921: \nOtto Graham – National Football League: Hall of Famer – (Navy Air Corps WWII) – Died: December 17\, 2003
URL:https://famousveterans.com/event/famous-veterans-birthdays-december-6th/2027-12-06/
CATEGORIES:Birthdays
END:VEVENT
BEGIN:VEVENT
DTSTART;TZID=America/New_York:20271206T230000
DTEND;TZID=America/New_York:20271207T225959
DTSTAMP:20260419T220357
CREATED:20170511T012029Z
LAST-MODIFIED:20170511T012029Z
UID:6285-1828134000-1828220399@famousveterans.com
SUMMARY:Famous Veterans Birthdays - December 7th
DESCRIPTION:Famous Veterans Celebrating Birthdays Today (December 7th):\nFamous Veterans Born December 7\, 1949: \nTom Waits – Actor\, Singer/Songwriter: Heartattack and Vine – (Coast Guard) \nFamous Veterans Born December 7\, 1923: \nTed Knight – Actor: Ted Baxter on Mary Tyler Moore – (Army WWII) – Died: August 26\, 1986 \nFamous Veterans Born December 7\, 1915: \nEli Wallach – Actor: The Magnificent Seven – (Army Captain 1940-1945) – Died: June 24\, 2014 \nFamous Veterans Born December 7\, 1915: \nJack Pennick – Actor – (USMC WWI\, reenlisted into Navy\, Silver Star Recipient) – Died: August 16\, 1964
URL:https://famousveterans.com/event/famous-veterans-birthdays-december-7th/2027-12-07/
CATEGORIES:Birthdays
END:VEVENT
END:VCALENDAR