BEGIN:VCALENDAR
VERSION:2.0
PRODID:-//Famous Veterans - ECPv5.16.4//NONSGML v1.0//EN
CALSCALE:GREGORIAN
METHOD:PUBLISH
X-WR-CALNAME:Famous Veterans
X-ORIGINAL-URL:https://famousveterans.com
X-WR-CALDESC:Events for Famous Veterans
BEGIN:VTIMEZONE
TZID:America/New_York
BEGIN:DAYLIGHT
TZOFFSETFROM:-0500
TZOFFSETTO:-0400
TZNAME:EDT
DTSTART:20260308T070000
END:DAYLIGHT
BEGIN:STANDARD
TZOFFSETFROM:-0400
TZOFFSETTO:-0500
TZNAME:EST
DTSTART:20261101T060000
END:STANDARD
BEGIN:DAYLIGHT
TZOFFSETFROM:-0500
TZOFFSETTO:-0400
TZNAME:EDT
DTSTART:20270314T070000
END:DAYLIGHT
BEGIN:STANDARD
TZOFFSETFROM:-0400
TZOFFSETTO:-0500
TZNAME:EST
DTSTART:20271107T060000
END:STANDARD
END:VTIMEZONE
BEGIN:VEVENT
DTSTART;VALUE=DATE:20260816
DTEND;VALUE=DATE:20270817
DTSTAMP:20260419T125232
CREATED:20170512T213027Z
LAST-MODIFIED:20250804T131149Z
UID:7062-1786838400-1818460799@famousveterans.com
SUMMARY:Famous Veterans Birthdays - August 16th
DESCRIPTION:Famous Veterans Celebrating Birthdays Today (August 16th):\nFamous Veterans Born August 16\, 1924: \nFess Parker – Actor: Daniel Boone\, Old Yeller – (Navy) – Died: March 18\, 2010
URL:https://famousveterans.com/event/famous-veterans-birthdays-august-16th/2026-08-16/
CATEGORIES:Birthdays
END:VEVENT
BEGIN:VEVENT
DTSTART;VALUE=DATE:20270704
DTEND;VALUE=DATE:20270705
DTSTAMP:20260419T125232
CREATED:20170517T200256Z
LAST-MODIFIED:20250505T162943Z
UID:5868-1814659200-1814745599@famousveterans.com
SUMMARY:Famous Veterans Birthdays - July 4th
DESCRIPTION:Famous Veterans Celebrating Birthdays Today (Independence Day – July 4th):\nFamous Veterans Born July 4\, 1938: \nBill Withers – Singer/Songwriter (“Ain’t No Sunshine”\, “Lean on Me”\, “Just the Two of Us”) – (Served 9 years in the U.S. Navy) – Died: March 30\, 2020 \nFamous Veterans Born July 4\, 1930: \nGeorge Steinbrenner – New York Yankees owner – (Air Force Officer) – Died: July 13\, 2010 \nFamous Veterans Born July 4\, 1927: \nNeil Simon – Playwright: The Odd Couple – (Army Air Force Reserve 1945-1946) – Died: August 26\, 2018
URL:https://famousveterans.com/event/famous-veterans-birthdays-july-4th/2027-07-04/
CATEGORIES:Birthdays
END:VEVENT
END:VCALENDAR