BEGIN:VCALENDAR
VERSION:2.0
PRODID:-//Famous Veterans - ECPv5.16.4//NONSGML v1.0//EN
CALSCALE:GREGORIAN
METHOD:PUBLISH
X-WR-CALNAME:Famous Veterans
X-ORIGINAL-URL:https://famousveterans.com
X-WR-CALDESC:Events for Famous Veterans
BEGIN:VTIMEZONE
TZID:America/New_York
BEGIN:DAYLIGHT
TZOFFSETFROM:-0500
TZOFFSETTO:-0400
TZNAME:EDT
DTSTART:20250309T070000
END:DAYLIGHT
BEGIN:STANDARD
TZOFFSETFROM:-0400
TZOFFSETTO:-0500
TZNAME:EST
DTSTART:20251102T060000
END:STANDARD
END:VTIMEZONE
BEGIN:VEVENT
DTSTART;TZID=America/New_York:20251103T230000
DTEND;TZID=America/New_York:20251104T225959
DTSTAMP:20260419T104740
CREATED:20170510T160910Z
LAST-MODIFIED:20170510T160910Z
UID:6414-1762210800-1762297199@famousveterans.com
SUMMARY:Famous Veterans Birthdays – November 4th
DESCRIPTION:Famous Veterans Celebrating Birthdays Today (November 4th):\nFamous Veterans Born November 4\, 1930: \nDick Groat – Major League Baseball Shortstop and NBA – (Army) – Died: April 27\, 2023 at age 92. \nFamous Veterans Born November 4\, 1918: \nArt Carney – Actor: Honeymooners – (Army wounded during the Normandy landing) – Died: November 9\, 2003 \nFamous Veterans Born November 4\, 1916: \nWalter Cronkite – Anchorman: CBS Evening News – (Coast Guard Auxiliary) – Died: July 17\, 2009 \nFamous Veterans Born November 4\, 1913: \nGig Young – Actor: They Shoot Horses\, Don’t They? – (Coast Guard WWII) – Died: October 19\, 1978 \n 
URL:https://famousveterans.com/event/famous-veterans-birthdays-november-4th/2025-11-04/
CATEGORIES:Birthdays
END:VEVENT
END:VCALENDAR