BEGIN:VCALENDAR
VERSION:2.0
PRODID:-//Famous Veterans - ECPv5.16.4//NONSGML v1.0//EN
CALSCALE:GREGORIAN
METHOD:PUBLISH
X-WR-CALNAME:Famous Veterans
X-ORIGINAL-URL:https://famousveterans.com
X-WR-CALDESC:Events for Famous Veterans
BEGIN:VTIMEZONE
TZID:America/New_York
BEGIN:DAYLIGHT
TZOFFSETFROM:-0500
TZOFFSETTO:-0400
TZNAME:EDT
DTSTART:20270314T070000
END:DAYLIGHT
BEGIN:STANDARD
TZOFFSETFROM:-0400
TZOFFSETTO:-0500
TZNAME:EST
DTSTART:20271107T060000
END:STANDARD
END:VTIMEZONE
BEGIN:VEVENT
DTSTART;VALUE=DATE:20271125
DTEND;VALUE=DATE:20271127
DTSTAMP:20260419T222641
CREATED:20170517T173122Z
LAST-MODIFIED:20241206T144056Z
UID:6157-1827183600-1827269999@famousveterans.com
SUMMARY:Famous Veterans Birthdays - November 26th
DESCRIPTION:Famous Veterans Celebrating Birthdays Today (November 26th):\nFamous Veterans Born November 26\, 1922: \nCharles Schulz – Illustrator/Writer: Peanuts – (Army) – Died: February 12\, 2000 \nSchulz was drafted into the United States Army. He served as a staff sergeant with the 20th Armored Division in Europe during World War II\, as a squad leader on a .50 caliber machine gun team. His unit saw combat only at the very end of the war. Schulz said he had only one opportunity to fire his machine gun but forgot to load it\, and that the German soldier he could have fired at willingly surrendered. Years later\, Schulz proudly spoke of his wartime service.
URL:https://famousveterans.com/event/famous-veterans-birthdays-november-26th/2027-11-26/
END:VEVENT
END:VCALENDAR