BEGIN:VCALENDAR
VERSION:2.0
PRODID:-//Famous Veterans - ECPv5.16.4//NONSGML v1.0//EN
CALSCALE:GREGORIAN
METHOD:PUBLISH
X-WR-CALNAME:Famous Veterans
X-ORIGINAL-URL:https://famousveterans.com
X-WR-CALDESC:Events for Famous Veterans
BEGIN:VTIMEZONE
TZID:America/New_York
BEGIN:DAYLIGHT
TZOFFSETFROM:-0500
TZOFFSETTO:-0400
TZNAME:EDT
DTSTART:20260308T070000
END:DAYLIGHT
BEGIN:STANDARD
TZOFFSETFROM:-0400
TZOFFSETTO:-0500
TZNAME:EST
DTSTART:20261101T060000
END:STANDARD
END:VTIMEZONE
BEGIN:VEVENT
DTSTART;VALUE=DATE:20260208
DTEND;VALUE=DATE:20260210
DTSTAMP:20260419T133031
CREATED:20170511T134312Z
LAST-MODIFIED:20250203T163128Z
UID:4821-1770591600-1770677999@famousveterans.com
SUMMARY:Famous Veterans Birthdays - February 9th
DESCRIPTION:  \n\n\n\nFamous Veterans Celebrating Birthdays Today (February 9th):\nFamous Veterans Born February 9\, 1914: \nBill Veeck – Major League Baseball Team Owner – (Marine Corps WWII) – Died: January 2\, 1986
URL:https://famousveterans.com/event/famous-veterans-birthdays-february-9th/2026-02-09/
CATEGORIES:Birthdays
END:VEVENT
END:VCALENDAR