BEGIN:VCALENDAR
VERSION:2.0
PRODID:-//Famous Veterans - ECPv5.16.4//NONSGML v1.0//EN
CALSCALE:GREGORIAN
METHOD:PUBLISH
X-WR-CALNAME:Famous Veterans
X-ORIGINAL-URL:https://famousveterans.com
X-WR-CALDESC:Events for Famous Veterans
BEGIN:VTIMEZONE
TZID:America/New_York
BEGIN:DAYLIGHT
TZOFFSETFROM:-0500
TZOFFSETTO:-0400
TZNAME:EDT
DTSTART:20280312T070000
END:DAYLIGHT
BEGIN:STANDARD
TZOFFSETFROM:-0400
TZOFFSETTO:-0500
TZNAME:EST
DTSTART:20281105T060000
END:STANDARD
END:VTIMEZONE
BEGIN:VEVENT
DTSTART;TZID=America/New_York:20280213T230000
DTEND;TZID=America/New_York:20280214T225959
DTSTAMP:20260419T095736
CREATED:20170515T171407Z
LAST-MODIFIED:20170515T171407Z
UID:6539-1834095600-1834181999@famousveterans.com
SUMMARY:Famous Veterans Birthdays - February 14th
DESCRIPTION:Famous Veterans Celebrating Birthdays Today (Valentine’s Day – February 14th):\nFamous Veterans Born February 14\, 1931: \nBrian Kelly – Actor: father on Flipper – (Marine Corps Korean War) – Died: February 12\, 2005  \n\n \n(adsbygoogle = window.adsbygoogle || []).push({});
URL:https://famousveterans.com/event/famous-veterans-birthdays-february-14th/2028-02-14/
CATEGORIES:Birthdays
END:VEVENT
END:VCALENDAR