BEGIN:VCALENDAR
VERSION:2.0
PRODID:-//Famous Veterans - ECPv5.16.4//NONSGML v1.0//EN
CALSCALE:GREGORIAN
METHOD:PUBLISH
X-WR-CALNAME:Famous Veterans
X-ORIGINAL-URL:https://famousveterans.com
X-WR-CALDESC:Events for Famous Veterans
BEGIN:VTIMEZONE
TZID:America/New_York
BEGIN:DAYLIGHT
TZOFFSETFROM:-0500
TZOFFSETTO:-0400
TZNAME:EDT
DTSTART:20260308T070000
END:DAYLIGHT
BEGIN:STANDARD
TZOFFSETFROM:-0400
TZOFFSETTO:-0500
TZNAME:EST
DTSTART:20261101T060000
END:STANDARD
END:VTIMEZONE
BEGIN:VEVENT
DTSTART;VALUE=DATE:20260802
DTEND;VALUE=DATE:20260803
DTSTAMP:20260423T003011
CREATED:20170511T163111Z
LAST-MODIFIED:20250706T140705Z
UID:5032-1785628800-1785715199@famousveterans.com
SUMMARY:Famous Veterans Birthdays - August 2nd
DESCRIPTION:Famous Veterans Celebrating Birthdays Today (August 2nd):\nFamous Veterans Born August 2\, 1984: \nJ.D. Vance – Ohio Senator and author of Hillbilly Elegy – (Marine Corps Iraq War in the Public Affairs section of the 2nd Marine Aircraft Wing) \nFamous Veterans Born August 2\, 1924: \nChristopher Hibler – Producer/Director – (Coast Guard) – Died: December 8\, 2010 \nFamous Veterans Born August 2\, 1924: \nCarroll O’Connor – Actor: Archie Bunker on All in The Family – (Merchant Marines) – Died: June 21\, 2001 \nFamous Veterans Born August 2\, 1890: \nBob Burns – Actor: The Arkansas Traveler – (Marine Corps WWI) – Died: February 2\, 1956
URL:https://famousveterans.com/event/famous-veterans-birthdays-august-2nd/2026-08-02/
CATEGORIES:Birthdays
END:VEVENT
END:VCALENDAR